BEGIN:VCALENDAR
VERSION:2.0
PRODID:-//Plone.org//NONSGML plone.app.event//EN
X-WR-TIMEZONE:Europe/Rome
BEGIN:VEVENT
SUMMARY:Iniziative Ecumeniche
DTSTART;TZID=Europe/Rome;VALUE=DATE-TIME:20091220T090000
DTEND;TZID=Europe/Rome;VALUE=DATE-TIME:20091220T103000
DTSTAMP;VALUE=DATE-TIME:20260420T083920Z
UID:d5a0a5c03d6d77ea3692e50658fa5ed6
CATEGORIES:Preghiera Ecumenica
CREATED;VALUE=DATE-TIME:20091201T152022Z
DESCRIPTION:Divina Liturgia
LAST-MODIFIED;VALUE=DATE-TIME:20130305T121810Z
LOCATION:Chiesa Santa Colomba - Bari
URL:https://www.arcidiocesibaribitonto.it/events/iniziative-ecumeniche-7
END:VEVENT
BEGIN:VTIMEZONE
TZID:Europe/Rome
X-LIC-LOCATION:Europe/Rome
BEGIN:STANDARD
DTSTART;VALUE=DATE-TIME:20091025T020000
TZNAME:CET
TZOFFSETFROM:+0200
TZOFFSETTO:+0100
END:STANDARD
END:VTIMEZONE
END:VCALENDAR
