BEGIN:VCALENDAR
VERSION:2.0
PRODID:-//Plone.org//NONSGML plone.app.event//EN
X-WR-TIMEZONE:Europe/Rome
BEGIN:VEVENT
SUMMARY:La Fede illumina l’esistenza
DTSTART;TZID=Europe/Rome;VALUE=DATE-TIME:20131106T191500
DTEND;TZID=Europe/Rome;VALUE=DATE-TIME:20131106T211500
DTSTAMP;VALUE=DATE-TIME:20260420T085102Z
UID:957db159bbc144da99bc7cc0d209ac47
CATEGORIES:Conferenza
CREATED;VALUE=DATE-TIME:20131020T165633Z
LAST-MODIFIED;VALUE=DATE-TIME:20131020T165649Z
LOCATION:Parrocchia S. Croce - Bari
URL:https://www.arcidiocesibaribitonto.it/events/la-fede-illumina-l2019esi
 stenza
END:VEVENT
BEGIN:VTIMEZONE
TZID:Europe/Rome
X-LIC-LOCATION:Europe/Rome
BEGIN:STANDARD
DTSTART;VALUE=DATE-TIME:20131027T020000
TZNAME:CET
TZOFFSETFROM:+0200
TZOFFSETTO:+0100
END:STANDARD
END:VTIMEZONE
END:VCALENDAR
