BEGIN:VCALENDAR
VERSION:2.0
PRODID:-//Plone.org//NONSGML plone.app.event//EN
X-WR-TIMEZONE:Europe/Rome
BEGIN:VEVENT
SUMMARY:La Tenda di Abramo e Sara
DTSTART;TZID=Europe/Rome;VALUE=DATE-TIME:20190406T160000
DTEND;TZID=Europe/Rome;VALUE=DATE-TIME:20190406T193000
DTSTAMP;VALUE=DATE-TIME:20260420T203351Z
UID:a01697bd3b8d46f3a81136718494227e
CATEGORIES:Incontro di spiritualità
CREATED;VALUE=DATE-TIME:20190316T083211Z
LAST-MODIFIED;VALUE=DATE-TIME:20190316T083215Z
LOCATION:Domus Familiae - Bari Torre a Mare
URL:https://www.arcidiocesibaribitonto.it/events/la-tenda-di-abramo-e-sara
 -5
END:VEVENT
BEGIN:VTIMEZONE
TZID:Europe/Rome
X-LIC-LOCATION:Europe/Rome
BEGIN:DAYLIGHT
DTSTART;VALUE=DATE-TIME:20190331T030000
TZNAME:CEST
TZOFFSETFROM:+0100
TZOFFSETTO:+0200
END:DAYLIGHT
END:VTIMEZONE
END:VCALENDAR
