BEGIN:VCALENDAR
VERSION:2.0
PRODID:-//Plone.org//NONSGML plone.app.event//EN
X-WR-TIMEZONE:Europe/Rome
BEGIN:VEVENT
SUMMARY:Messa al Sacro Cuore
DTSTART;TZID=Europe/Rome;VALUE=DATE-TIME:20180607T190000
DTEND;TZID=Europe/Rome;VALUE=DATE-TIME:20180607T200000
DTSTAMP;VALUE=DATE-TIME:20260420T060213Z
UID:75d3da5ce42a4c86a127da520397af15
CATEGORIES:Agenda dell'Arcivescovo
CATEGORIES:S. Messa
CREATED;VALUE=DATE-TIME:20180515T124155Z
LAST-MODIFIED;VALUE=DATE-TIME:20180515T124159Z
LOCATION:Parrocchia S. Cuore - Mola di Bari
URL:https://www.arcidiocesibaribitonto.it/events/messa-al-sacro-cuore
END:VEVENT
BEGIN:VTIMEZONE
TZID:Europe/Rome
X-LIC-LOCATION:Europe/Rome
BEGIN:DAYLIGHT
DTSTART;VALUE=DATE-TIME:20180325T030000
TZNAME:CEST
TZOFFSETFROM:+0100
TZOFFSETTO:+0200
END:DAYLIGHT
END:VTIMEZONE
END:VCALENDAR
