BEGIN:VCALENDAR
VERSION:2.0
PRODID:-//Plone.org//NONSGML plone.app.event//EN
X-WR-TIMEZONE:Europe/Rome
BEGIN:VEVENT
SUMMARY:Pomeriggio di spiritualità mariana
DTSTART;TZID=Europe/Rome;VALUE=DATE-TIME:20180203T160000
DTEND;TZID=Europe/Rome;VALUE=DATE-TIME:20180203T180000
DTSTAMP;VALUE=DATE-TIME:20260421T022827Z
UID:74a33025525f43ff92dcae981e5d434f
CATEGORIES:Week-End di spiritualità
CREATED;VALUE=DATE-TIME:20180115T165003Z
LAST-MODIFIED;VALUE=DATE-TIME:20180115T165007Z
LOCATION:Missionarie Immacolata P. Kolbe - Bari
URL:https://www.arcidiocesibaribitonto.it/events/pomeriggio-di-spiritualit
 a-mariana-10
END:VEVENT
BEGIN:VTIMEZONE
TZID:Europe/Rome
X-LIC-LOCATION:Europe/Rome
BEGIN:STANDARD
DTSTART;VALUE=DATE-TIME:20171029T020000
TZNAME:CET
TZOFFSETFROM:+0200
TZOFFSETTO:+0100
END:STANDARD
END:VTIMEZONE
END:VCALENDAR
