BEGIN:VCALENDAR
VERSION:2.0
PRODID:-//Plone.org//NONSGML plone.app.event//EN
X-WR-TIMEZONE:Europe/Rome
BEGIN:VEVENT
SUMMARY:Relazioni nuziali spezzate
DTSTART;TZID=Europe/Rome;VALUE=DATE-TIME:20170511T203000
DTEND;TZID=Europe/Rome;VALUE=DATE-TIME:20170511T220000
DTSTAMP;VALUE=DATE-TIME:20260419T234328Z
UID:f944072b16014a60925fad3c8f3aead0
CATEGORIES:Incontro
CREATED;VALUE=DATE-TIME:20170411T143355Z
LAST-MODIFIED;VALUE=DATE-TIME:20170411T143359Z
LOCATION:Domus Familiae\, “Nozze di Cana” - Torre a Mare
URL:https://www.arcidiocesibaribitonto.it/events/relazioni-nuziali-spezzat
 e-47
END:VEVENT
BEGIN:VTIMEZONE
TZID:Europe/Rome
X-LIC-LOCATION:Europe/Rome
BEGIN:DAYLIGHT
DTSTART;VALUE=DATE-TIME:20170326T030000
TZNAME:CEST
TZOFFSETFROM:+0100
TZOFFSETTO:+0200
END:DAYLIGHT
END:VTIMEZONE
END:VCALENDAR
