BEGIN:VCALENDAR
VERSION:2.0
PRODID:-//Plone.org//NONSGML plone.app.event//EN
X-WR-TIMEZONE:Europe/Rome
BEGIN:VEVENT
SUMMARY:Relazioni nuziali spezzate
DTSTART;TZID=Europe/Rome;VALUE=DATE-TIME:20190110T203000
DTEND;TZID=Europe/Rome;VALUE=DATE-TIME:20190110T220000
DTSTAMP;VALUE=DATE-TIME:20260423T121720Z
UID:73419693ec6248e1842f67a823561a39
CATEGORIES:Incontro
CREATED;VALUE=DATE-TIME:20181212T145810Z
LAST-MODIFIED;VALUE=DATE-TIME:20181212T145814Z
LOCATION:Domus Familiae - Bari Torre a Mare
URL:https://www.arcidiocesibaribitonto.it/events/relazioni-nuziali-spezzat
 e-57
END:VEVENT
BEGIN:VTIMEZONE
TZID:Europe/Rome
X-LIC-LOCATION:Europe/Rome
BEGIN:STANDARD
DTSTART;VALUE=DATE-TIME:20181028T020000
TZNAME:CET
TZOFFSETFROM:+0200
TZOFFSETTO:+0100
END:STANDARD
END:VTIMEZONE
END:VCALENDAR
