BEGIN:VCALENDAR
VERSION:2.0
PRODID:-//Plone.org//NONSGML plone.app.event//EN
X-WR-TIMEZONE:Europe/Rome
BEGIN:VEVENT
SUMMARY:Ritiro dei Curiali
DTSTART;TZID=Europe/Rome;VALUE=DATE-TIME:20111212T093000
DTEND;TZID=Europe/Rome;VALUE=DATE-TIME:20111212T140000
DTSTAMP;VALUE=DATE-TIME:20260420T083640Z
UID:51515d6c103777de6f4719c948d65ef4
CATEGORIES:Ritiro Curia
CREATED;VALUE=DATE-TIME:20111125T113853Z
LAST-MODIFIED;VALUE=DATE-TIME:20121209T154255Z
LOCATION:Oasi S. Maria - Cassano Murge
URL:https://www.arcidiocesibaribitonto.it/events/ritiro-dei-curiali
END:VEVENT
BEGIN:VTIMEZONE
TZID:Europe/Rome
X-LIC-LOCATION:Europe/Rome
BEGIN:STANDARD
DTSTART;VALUE=DATE-TIME:20111030T020000
TZNAME:CET
TZOFFSETFROM:+0200
TZOFFSETTO:+0100
END:STANDARD
END:VTIMEZONE
END:VCALENDAR
