BEGIN:VCALENDAR
VERSION:2.0
PRODID:-//Plone.org//NONSGML plone.app.event//EN
X-WR-TIMEZONE:Europe/Rome
BEGIN:VEVENT
SUMMARY:S. Messa nella Parrocchia Preziosissimo Sangue
DTSTART;TZID=Europe/Rome;VALUE=DATE-TIME:20220701T190000
DTEND;TZID=Europe/Rome;VALUE=DATE-TIME:20220701T200000
DTSTAMP;VALUE=DATE-TIME:20260424T020825Z
UID:87ea356967b74547a87d154de1a66c02
CATEGORIES:S. Messa
CATEGORIES:Agenda dell'Arcivescovo
CREATED;VALUE=DATE-TIME:20220701T121944Z
LAST-MODIFIED;VALUE=DATE-TIME:20220701T122436Z
LOCATION:Parrocchia Preziosissimo Sangue in S. Rocco - Bari
URL:https://www.arcidiocesibaribitonto.it/events/s-messa-nella-parrocchia-
 preziosissimo-sangue
END:VEVENT
BEGIN:VTIMEZONE
TZID:Europe/Rome
X-LIC-LOCATION:Europe/Rome
BEGIN:DAYLIGHT
DTSTART;VALUE=DATE-TIME:20220327T030000
TZNAME:CEST
TZOFFSETFROM:+0100
TZOFFSETTO:+0200
END:DAYLIGHT
END:VTIMEZONE
END:VCALENDAR
