BEGIN:VCALENDAR
VERSION:2.0
PRODID:-//Plone.org//NONSGML plone.app.event//EN
X-WR-TIMEZONE:Europe/Rome
BEGIN:VEVENT
SUMMARY:Settore Giovani AC Bari
DTSTART;TZID=Europe/Rome;VALUE=DATE-TIME:20130112T170000
DTEND;TZID=Europe/Rome;VALUE=DATE-TIME:20130112T200000
DTSTAMP;VALUE=DATE-TIME:20260420T153631Z
UID:95fa97860e514d43bb9e77a2ac9e9979
CATEGORIES:Meeting
CREATED;VALUE=DATE-TIME:20121218T115119Z
LAST-MODIFIED;VALUE=DATE-TIME:20130127T084248Z
URL:https://www.arcidiocesibaribitonto.it/events/settore-giovani-ac-bari
END:VEVENT
BEGIN:VTIMEZONE
TZID:Europe/Rome
X-LIC-LOCATION:Europe/Rome
BEGIN:STANDARD
DTSTART;VALUE=DATE-TIME:20121028T020000
TZNAME:CET
TZOFFSETFROM:+0200
TZOFFSETTO:+0100
END:STANDARD
END:VTIMEZONE
END:VCALENDAR
