BEGIN:VCALENDAR
VERSION:2.0
PRODID:-//Plone.org//NONSGML plone.app.event//EN
X-WR-TIMEZONE:Europe/Rome
BEGIN:VEVENT
SUMMARY:Tavola Rotonda
DTSTART;TZID=Europe/Rome;VALUE=DATE-TIME:20190118T193000
DTEND;TZID=Europe/Rome;VALUE=DATE-TIME:20190118T213000
DTSTAMP;VALUE=DATE-TIME:20260424T021718Z
UID:142b2e81f1c747be98fd3e33ff40512e
CATEGORIES:Tavola rotonda
CATEGORIES:Antiusura
CREATED;VALUE=DATE-TIME:20181212T144338Z
LAST-MODIFIED;VALUE=DATE-TIME:20181212T144344Z
LOCATION:Centro giovanile Universitario - Bari
URL:https://www.arcidiocesibaribitonto.it/events/tavola-rotonda-7
END:VEVENT
BEGIN:VTIMEZONE
TZID:Europe/Rome
X-LIC-LOCATION:Europe/Rome
BEGIN:STANDARD
DTSTART;VALUE=DATE-TIME:20181028T020000
TZNAME:CET
TZOFFSETFROM:+0200
TZOFFSETTO:+0100
END:STANDARD
END:VTIMEZONE
END:VCALENDAR
