BEGIN:VCALENDAR
VERSION:2.0
PRODID:-//Plone.org//NONSGML plone.app.event//EN
X-WR-TIMEZONE:Europe/Rome
BEGIN:VEVENT
SUMMARY:Ufficio delle Letture
DTSTART;TZID=Europe/Rome;VALUE=DATE-TIME:20190419T090000
DTEND;TZID=Europe/Rome;VALUE=DATE-TIME:20190419T093000
DTSTAMP;VALUE=DATE-TIME:20260421T115536Z
UID:0d77cf766c564b2da4d7111a9352c3d4
CATEGORIES:Ufficio delle Letture
CATEGORIES:Agenda dell'Arcivescovo
CREATED;VALUE=DATE-TIME:20190316T141515Z
LAST-MODIFIED;VALUE=DATE-TIME:20190316T141518Z
LOCATION:Cattedrale - Bari
URL:https://www.arcidiocesibaribitonto.it/events/ufficio-delle-letture-4
END:VEVENT
BEGIN:VTIMEZONE
TZID:Europe/Rome
X-LIC-LOCATION:Europe/Rome
BEGIN:DAYLIGHT
DTSTART;VALUE=DATE-TIME:20190331T030000
TZNAME:CEST
TZOFFSETFROM:+0100
TZOFFSETTO:+0200
END:DAYLIGHT
END:VTIMEZONE
END:VCALENDAR
