BEGIN:VCALENDAR
VERSION:2.0
PRODID:-//Plone.org//NONSGML plone.app.event//EN
X-WR-TIMEZONE:Europe/Rome
BEGIN:VEVENT
SUMMARY:Unione Apostolica del Clero
DTSTART;TZID=Europe/Rome;VALUE=DATE-TIME:20110527T100000
DTEND;TZID=Europe/Rome;VALUE=DATE-TIME:20110527T133000
DTSTAMP;VALUE=DATE-TIME:20260421T103833Z
UID:417fcdca2f85d7cca0ad9a41a5dffe45
CATEGORIES:Cenacolo mensile UAC
CREATED;VALUE=DATE-TIME:20110417T160737Z
DESCRIPTION:Cenacolo Mensile
LAST-MODIFIED;VALUE=DATE-TIME:20120419T175615Z
LOCATION:Parrocchia S. Maria di Monteverde - Grumo Appula
URL:https://www.arcidiocesibaribitonto.it/events/unione-apostolica-del-cle
 ro-4
END:VEVENT
BEGIN:VTIMEZONE
TZID:Europe/Rome
X-LIC-LOCATION:Europe/Rome
BEGIN:DAYLIGHT
DTSTART;VALUE=DATE-TIME:20110327T030000
TZNAME:CEST
TZOFFSETFROM:+0100
TZOFFSETTO:+0200
END:DAYLIGHT
END:VTIMEZONE
END:VCALENDAR
