BEGIN:VCALENDAR
VERSION:2.0
PRODID:-//Plone.org//NONSGML plone.app.event//EN
X-WR-TIMEZONE:Europe/Rome
BEGIN:VEVENT
SUMMARY:Veglia Ecumenica
DTSTART;TZID=Europe/Rome;VALUE=DATE-TIME:20181113T193000
DTEND;TZID=Europe/Rome;VALUE=DATE-TIME:20181113T203000
DTSTAMP;VALUE=DATE-TIME:20260425T041101Z
UID:09b3355c31c64e88b1d6511e12369a25
CATEGORIES:Veglia di preghiera
CATEGORIES:Preghiera Ecumenica
CREATED;VALUE=DATE-TIME:20181016T142034Z
LAST-MODIFIED;VALUE=DATE-TIME:20181016T142039Z
LOCATION:Basilica S. Nicola - Bari
URL:https://www.arcidiocesibaribitonto.it/events/veglia-ecumenica-4
END:VEVENT
BEGIN:VTIMEZONE
TZID:Europe/Rome
X-LIC-LOCATION:Europe/Rome
BEGIN:STANDARD
DTSTART;VALUE=DATE-TIME:20181028T020000
TZNAME:CET
TZOFFSETFROM:+0200
TZOFFSETTO:+0100
END:STANDARD
END:VTIMEZONE
END:VCALENDAR
