BEGIN:VCALENDAR
VERSION:2.0
PRODID:-//Plone.org//NONSGML plone.app.event//EN
X-WR-TIMEZONE:Europe/Rome
BEGIN:VEVENT
SUMMARY:Vespri nella Parrocchia S. Antonio
DTSTART;TZID=Europe/Rome;VALUE=DATE-TIME:20220217T193000
DTEND;TZID=Europe/Rome;VALUE=DATE-TIME:20220217T210000
DTSTAMP;VALUE=DATE-TIME:20260421T123503Z
UID:5c59c3476f384d5084d31662f69dc408
CATEGORIES:Vespri
CATEGORIES:Incontro
CATEGORIES:Agenda dell'Arcivescovo
CREATED;VALUE=DATE-TIME:20220202T145817Z
LAST-MODIFIED;VALUE=DATE-TIME:20220202T145824Z
LOCATION:Parrocchia S. Antonio - Bari
URL:https://www.arcidiocesibaribitonto.it/events/vespri-nella-parrocchia-s
 -antonio
END:VEVENT
BEGIN:VTIMEZONE
TZID:Europe/Rome
X-LIC-LOCATION:Europe/Rome
BEGIN:STANDARD
DTSTART;VALUE=DATE-TIME:20211031T020000
TZNAME:CET
TZOFFSETFROM:+0200
TZOFFSETTO:+0100
END:STANDARD
END:VTIMEZONE
END:VCALENDAR
