BEGIN:VCALENDAR
VERSION:2.0
PRODID:-//Plone.org//NONSGML plone.app.event//EN
X-WR-TIMEZONE:Europe/Rome
BEGIN:VEVENT
SUMMARY:Visita al I Vicariato
DTSTART;TZID=Europe/Rome;VALUE=DATE-TIME:20180220T100000
DTEND;TZID=Europe/Rome;VALUE=DATE-TIME:20180220T210000
DTSTAMP;VALUE=DATE-TIME:20260420T085128Z
UID:525c056ebddd480e8e9d19aab4515a5a
CATEGORIES:Incontro con i Vicariati
CATEGORIES:Agenda dell'Arcivescovo
CREATED;VALUE=DATE-TIME:20171211T153143Z
LAST-MODIFIED;VALUE=DATE-TIME:20171211T153151Z
URL:https://www.arcidiocesibaribitonto.it/events/visita-al-i-vicariato
END:VEVENT
BEGIN:VTIMEZONE
TZID:Europe/Rome
X-LIC-LOCATION:Europe/Rome
BEGIN:STANDARD
DTSTART;VALUE=DATE-TIME:20171029T020000
TZNAME:CET
TZOFFSETFROM:+0200
TZOFFSETTO:+0100
END:STANDARD
END:VTIMEZONE
END:VCALENDAR
