BEGIN:VCALENDAR
VERSION:2.0
PRODID:-//Plone.org//NONSGML plone.app.event//EN
X-WR-TIMEZONE:Europe/Rome
BEGIN:VEVENT
SUMMARY:Weekend formativo CVS
DTSTART;VALUE=DATE:20180427
DTEND;VALUE=DATE:20180430
DTSTAMP;VALUE=DATE-TIME:20260420T084353Z
UID:15b9244337054b6093f35f52870996cc
CATEGORIES:Week-End di spiritualità
CATEGORIES:Formazione gruppi CVS
CREATED;VALUE=DATE-TIME:20180313T152759Z
LAST-MODIFIED;VALUE=DATE-TIME:20180313T152812Z
LOCATION:Casa "Mons. Luigi Novarese" - Valleluogo di Ariano Irpino (AV)
URL:https://www.arcidiocesibaribitonto.it/events/weekend-formativo-cvs
END:VEVENT
END:VCALENDAR
