BEGIN:VCALENDAR
VERSION:2.0
PRODID:-//Plone.org//NONSGML plone.app.event//EN
X-WR-TIMEZONE:Europe/Rome
BEGIN:VEVENT
SUMMARY:XX Corso di Formazione di pastorale familiare
DTSTART;TZID=Europe/Rome;VALUE=DATE-TIME:20121119T191500
DTEND;TZID=Europe/Rome;VALUE=DATE-TIME:20121119T210000
DTSTAMP;VALUE=DATE-TIME:20260423T173614Z
UID:9501297d611af37f394200c7df3665a4
CATEGORIES:Formazione operatori pastorale familiare
CREATED;VALUE=DATE-TIME:20121028T101943Z
LAST-MODIFIED;VALUE=DATE-TIME:20121028T154732Z
LOCATION:Parrocchia Resurrezione - Bari
URL:https://www.arcidiocesibaribitonto.it/events/xx-corso-di-formazione-di
 -pastorale-familiare-2
END:VEVENT
BEGIN:VTIMEZONE
TZID:Europe/Rome
X-LIC-LOCATION:Europe/Rome
BEGIN:STANDARD
DTSTART;VALUE=DATE-TIME:20121028T020000
TZNAME:CET
TZOFFSETFROM:+0200
TZOFFSETTO:+0100
END:STANDARD
END:VTIMEZONE
END:VCALENDAR
