BEGIN:VCALENDAR
VERSION:2.0
PRODID:-//Plone.org//NONSGML plone.app.event//EN
X-WR-TIMEZONE:Europe/Rome
BEGIN:VEVENT
SUMMARY:Processione dell'Addolorata
DTSTART;TZID=Europe/Rome;VALUE=DATE-TIME:20180323T190000
DTEND;TZID=Europe/Rome;VALUE=DATE-TIME:20180323T230000
DTSTAMP;VALUE=DATE-TIME:20260419T061655Z
UID:5a14602714af4591a9d88576295402f8
CATEGORIES:Processione
CREATED;VALUE=DATE-TIME:20180204T161251Z
LAST-MODIFIED;VALUE=DATE-TIME:20180204T161259Z
LOCATION:Carbonara
URL:https://www.arcidiocesibaribitonto.it/luoghi-di-culto/madonna-di-pompe
 i/events/processione-delladdolorata
END:VEVENT
BEGIN:VTIMEZONE
TZID:Europe/Rome
X-LIC-LOCATION:Europe/Rome
BEGIN:STANDARD
DTSTART;VALUE=DATE-TIME:20171029T020000
TZNAME:CET
TZOFFSETFROM:+0200
TZOFFSETTO:+0100
END:STANDARD
END:VTIMEZONE
END:VCALENDAR
